BEGIN:VCALENDAR
VERSION:2.0
PRODID:-//Energie Institut - ECPv6.15.20//NONSGML v1.0//EN
CALSCALE:GREGORIAN
METHOD:PUBLISH
X-ORIGINAL-URL:https://www.energie-institut.com
X-WR-CALDESC:Veranstaltungen für Energie Institut
REFRESH-INTERVAL;VALUE=DURATION:PT1H
X-Robots-Tag:noindex
X-PUBLISHED-TTL:PT1H
BEGIN:VTIMEZONE
TZID:Europe/Helsinki
BEGIN:DAYLIGHT
TZOFFSETFROM:+0200
TZOFFSETTO:+0300
TZNAME:EEST
DTSTART:20250330T010000
END:DAYLIGHT
BEGIN:STANDARD
TZOFFSETFROM:+0300
TZOFFSETTO:+0200
TZNAME:EET
DTSTART:20251026T010000
END:STANDARD
BEGIN:DAYLIGHT
TZOFFSETFROM:+0200
TZOFFSETTO:+0300
TZNAME:EEST
DTSTART:20260329T010000
END:DAYLIGHT
BEGIN:STANDARD
TZOFFSETFROM:+0300
TZOFFSETTO:+0200
TZNAME:EET
DTSTART:20261025T010000
END:STANDARD
BEGIN:DAYLIGHT
TZOFFSETFROM:+0200
TZOFFSETTO:+0300
TZNAME:EEST
DTSTART:20270328T010000
END:DAYLIGHT
BEGIN:STANDARD
TZOFFSETFROM:+0300
TZOFFSETTO:+0200
TZNAME:EET
DTSTART:20271031T010000
END:STANDARD
END:VTIMEZONE
BEGIN:VEVENT
DTSTART;TZID=Europe/Helsinki:20260422T093000
DTEND;TZID=Europe/Helsinki:20260422T110000
DTSTAMP:20260422T091230
CREATED:20251007T095054Z
LAST-MODIFIED:20260205T120306Z
UID:10000809-1776850200-1776855600@www.energie-institut.com
SUMMARY:Ganzheitliches Prana Yoga am Vormittag
DESCRIPTION:Regeneratives\, ganzheitliches Prana Yoga  jeden Mittwochvormittag.\nDurch die gesundheitsfördernden Übungen wirst Du von Woche zu Woche beweglicher\, widerstandsfähiger\, kraftvoller\, klarer und ruhiger. \n>> zur detaillierten Veranstaltungsbeschreibung \n1\,5 stündige Yogapraxis\nMittwoch\, 9.30 – 11.00 Uhr\n10er Block € 160\,-\nEinzelstunde € 18\,- \n  \n\nAnmeldung bitte telefonisch unter 01 408 54 55 oder per Mail an office@energie-institut.com. \n 
URL:https://www.energie-institut.com/event/gpy-vormittags-2026-04-22/
LOCATION:Zoom
CATEGORIES:Gesundheit,Keine Vorkenntnisse
ORGANIZER;CN="Institut f%C3%BCr Energiearbeit":MAILTO:office@energie-institut.com
END:VEVENT
BEGIN:VEVENT
DTSTART;TZID=Europe/Helsinki:20260423T190000
DTEND;TZID=Europe/Helsinki:20260423T203000
DTSTAMP:20260422T091230
CREATED:20251007T101320Z
LAST-MODIFIED:20260205T120305Z
UID:10000826-1776970800-1776976200@www.energie-institut.com
SUMMARY:Ganzheitliches Prana Yoga am Abend
DESCRIPTION:Ganzheitliches Prana Yoga. Durch die gesundheitsfördernden Übungen wirst Du von Woche zu Woche beweglicher\, widerstandsfähiger\, kraftvoller\, klarer und ruhiger. \n>> zur detaillierten Veranstaltungsbeschreibung \n1\,5 stündige Yogapraxis\nDonnerstag\, 19.00 – 20.30 Uhr\n€ 160\,- 10er Block (6 Monate gültig)\n€ 18\,- Einzelstunde \n  \nAnmeldung bitte telefonisch unter 01 408 54 55 oder per Mail an office@energie-institut.com. Teilnahme via Zoom. Nach der Anmeldung erhalten Sie unser Anmeldeformular und den Zugangslink für Zoom. \n 
URL:https://www.energie-institut.com/event/abend-gpy-2026-04-23/
LOCATION:Zoom\, Österreich
CATEGORIES:Gesundheit,Keine Vorkenntnisse
ORGANIZER;CN="Institut f%C3%BCr Energiearbeit":MAILTO:office@energie-institut.com
END:VEVENT
BEGIN:VEVENT
DTSTART;TZID=Europe/Helsinki:20260430T190000
DTEND;TZID=Europe/Helsinki:20260430T203000
DTSTAMP:20260422T091230
CREATED:20251007T101320Z
LAST-MODIFIED:20260205T120305Z
UID:10000827-1777575600-1777581000@www.energie-institut.com
SUMMARY:Ganzheitliches Prana Yoga am Abend
DESCRIPTION:Ganzheitliches Prana Yoga. Durch die gesundheitsfördernden Übungen wirst Du von Woche zu Woche beweglicher\, widerstandsfähiger\, kraftvoller\, klarer und ruhiger. \n>> zur detaillierten Veranstaltungsbeschreibung \n1\,5 stündige Yogapraxis\nDonnerstag\, 19.00 – 20.30 Uhr\n€ 160\,- 10er Block (6 Monate gültig)\n€ 18\,- Einzelstunde \n  \nAnmeldung bitte telefonisch unter 01 408 54 55 oder per Mail an office@energie-institut.com. Teilnahme via Zoom. Nach der Anmeldung erhalten Sie unser Anmeldeformular und den Zugangslink für Zoom. \n 
URL:https://www.energie-institut.com/event/abend-gpy-2026-04-30/
LOCATION:Zoom\, Österreich
CATEGORIES:Gesundheit,Keine Vorkenntnisse
ORGANIZER;CN="Institut f%C3%BCr Energiearbeit":MAILTO:office@energie-institut.com
END:VEVENT
END:VCALENDAR